BEGIN:VCALENDAR
VERSION:2.0
PRODID:-//Prime Source Expense Experts - ECPv6.15.20//NONSGML v1.0//EN
CALSCALE:GREGORIAN
METHOD:PUBLISH
X-WR-CALNAME:Prime Source Expense Experts
X-ORIGINAL-URL:https://primesourcex.com
X-WR-CALDESC:Events for Prime Source Expense Experts
REFRESH-INTERVAL;VALUE=DURATION:PT1H
X-Robots-Tag:noindex
X-PUBLISHED-TTL:PT1H
BEGIN:VTIMEZONE
TZID:America/New_York
BEGIN:DAYLIGHT
TZOFFSETFROM:-0500
TZOFFSETTO:-0400
TZNAME:EDT
DTSTART:20230312T070000
END:DAYLIGHT
BEGIN:STANDARD
TZOFFSETFROM:-0400
TZOFFSETTO:-0500
TZNAME:EST
DTSTART:20231105T060000
END:STANDARD
BEGIN:DAYLIGHT
TZOFFSETFROM:-0500
TZOFFSETTO:-0400
TZNAME:EDT
DTSTART:20240310T070000
END:DAYLIGHT
BEGIN:STANDARD
TZOFFSETFROM:-0400
TZOFFSETTO:-0500
TZNAME:EST
DTSTART:20241103T060000
END:STANDARD
BEGIN:DAYLIGHT
TZOFFSETFROM:-0500
TZOFFSETTO:-0400
TZNAME:EDT
DTSTART:20250309T070000
END:DAYLIGHT
BEGIN:STANDARD
TZOFFSETFROM:-0400
TZOFFSETTO:-0500
TZNAME:EST
DTSTART:20251102T060000
END:STANDARD
END:VTIMEZONE
BEGIN:VEVENT
DTSTART;TZID=America/New_York:20240422T080000
DTEND;TZID=America/New_York:20240423T170000
DTSTAMP:20260420T024429
CREATED:20231009T162531Z
LAST-MODIFIED:20241112T063522Z
UID:2051-1713772800-1713891600@primesourcex.com
SUMMARY:The 20th Annual SPADD Conference
DESCRIPTION:
URL:https://primesourcex.com/event/the-20th-annual-spadd-conference/
LOCATION:United States
END:VEVENT
END:VCALENDAR